BEGIN:VCALENDAR
VERSION:2.0
PRODID:-//ChamberMaster//Event Calendar 2.0//EN
METHOD:PUBLISH
X-PUBLISHED-TTL:P3D
REFRESH-INTERVAL:P3D
CALSCALE:GREGORIAN
BEGIN:VEVENT
DTSTART:20241206T183000Z
DTEND:20241206T200000Z
X-MICROSOFT-CDO-ALLDAYEVENT:FALSE
SUMMARY:WBN Holiday Luncheon 2024
DESCRIPTION:We're ringing in the holidays with our annual WBN Holiday Luncheon! \n\n\n\nJoin us for this festive occasion to meet and mingle with the amazing business women in Utah County. You'll want to get there early to enjoy a reception with some fun mixed drinks. When doors open at 11:30\, you'll be able to get a peek at the gifts inside and sit down for a nice lunch with your new friends. Each guest will receive a valuable table gift and have the opportunity to do some holiday shopping at our fabulous silent auction. These funds go towards our women in business scholarship and small business grant program\, which will be awarded at the event. \n\n\n\nCome celebrate the season together and support a good cause!\n\n\n\nIf you would like to contribute a silent auction gift or sponsor a table\, please contact Katie Malbica at kmalbica@peghospitalitygroup.com or text 801-420-4344. We ask that auction items have a value of at least $50 and table sponsors provide 10 gifts valued $25 or more. Named sponsor opportunities are available as well. Contact us to get involved and support these women in business!
X-ALT-DESC;FMTTYPE=text/html:<span style="font-family: tahoma\; font-size: 14px\; background-image: initial\; background-position: initial\; background-size: initial\; background-repeat: initial\; background-attachment: initial\; background-origin: initial\; background-clip: initial\;">We&#39\;re ringing in the holidays with our annual WBN Holiday Luncheon!&nbsp\;</span><br />\n<br style="font-family: tahoma\; font-size: 14px\;" />\n<span style="font-family: tahoma\; font-size: 14px\;"><span style="background-image: initial\; background-position: initial\; background-size: initial\; background-repeat: initial\; background-attachment: initial\; background-origin: initial\; background-clip: initial\;">Join us for this festive occasion to meet and mingle with the amazing business women in Utah County. You&#39\;ll want to get there early to enjoy a reception with some fun mixed drinks. When doors open at 11:30\, you&#39\;ll be able to get a peek at the gifts inside and sit down for a nice lunch with your new friends.&nbsp\;</span>Each guest will receive a valuable table gift and have the opportunity to do some holiday shopping at our fabulous silent auction.<span style="background-image: initial\; background-position: initial\; background-size: initial\; background-repeat: initial\; background-attachment: initial\; background-origin: initial\; background-clip: initial\;">&nbsp\;These funds go towards our women in business scholarship and small business grant program\, which will be awarded at the event.&nbsp\;</span><br />\n<br />\n<span style="background-image: initial\; background-position: initial\; background-size: initial\; background-repeat: initial\; background-attachment: initial\; background-origin: initial\; background-clip: initial\;">Come celebrate the season together and support a good cause!</span><br />\n<br />\n<strong>If you would like to contribute a silent auction gift or sponsor a table\, please contact Katie Malbica at&nbsp\;</strong></span><strong style="color: rgb(0\, 0\, 0)\; font-family: tahoma\; font-size: 14px\;">kmalbica@peghospitalitygroup.com or text&nbsp\;</strong><strong style="font-family: tahoma\; font-size: 14px\;">801-420-4344.</strong><span style="font-family: tahoma\; font-size: 14px\;">&nbsp\;We ask that auction items have a value of at least $50 and table sponsors provide 10 gifts valued $25 or more. Named sponsor opportunities are available as well. </span><span style="font-family: tahoma\; font-size: 14px\;">Contact us to get involved and support these women in business!&nbsp\;</span>
LOCATION:Experience Event Center 1440 Moon River Dr Provo\, Utah 84604
UID:e.1646.4491
SEQUENCE:3
DTSTAMP:20260420T063002Z
URL:https://business.thechamber.org/events/details/wbn-holiday-luncheon-2024-4491
END:VEVENT

END:VCALENDAR
