BEGIN:VCALENDAR
VERSION:2.0
PRODID:-//ChamberMaster//Event Calendar 2.0//EN
METHOD:PUBLISH
X-PUBLISHED-TTL:P3D
REFRESH-INTERVAL:P3D
CALSCALE:GREGORIAN
BEGIN:VEVENT
DTSTART:20241107T150000Z
DTEND:20241107T220000Z
X-MICROSOFT-CDO-ALLDAYEVENT:FALSE
SUMMARY:Growth & Prosperity Summit 2024
DESCRIPTION:The Utah Valley Growth and Prosperity Summit features several keynote speakers and panels that address Utah County's biggest challenges and opportunities. Panels include topics such as: business environment\, workforce development\, transportation & infrastructure\, water\, housing\, healthcare\, natural resources\, and education. Let's plan to THRIVE.\n                                                               AGENDA        \n\n\n	Opening Session\n	\n		\n			Time\n			Activity\n			Speaker\n			Location\n		\n		\n			7:15 AM\n			Registration & \n\n			Networking Breakfast\n			Welcome by Curtis Blair at 8:30 AM\n			The Commons\n		\n		\n			8:05 AM\n			Keynote Speaker\n			Governor Spencer Cox\n			Grande Ballroom\n		\n		\n			8:30 AM\n			Keynote Speaker\n			President Astrid Tuminez\n			Grande Ballroom\n		\n		\n			8:50 AM\n			Keynote Speaker\n			Natalie Gochnour\n			Grande Ballroom\n		\n		\n			9:30 AM\n			Keynote Speaker\n			Senator Mike Lee\n			Grande Ballroom\n		\n		\n			9:50 AM\n			Keynote Speaker\n			Curtis Blair\n			Grande Ballroom\n		\n	\n\n \n\n\n	Breakout Sessions - 4 Tracks\n	\n		\n			Time\n			Community\n			Government\n			Student\n			Business\n		\n		\n			10:30 AM\n			Utah Valley as a Health Innovation Hub\n			Panel: \n\n			Kelvyn Cullimore\n\n			Mary Beckerle\n\n			Sam Payne\n\n			Brandon Gordon\n			\n			The "Missing Middle" of Housing\n\n			\n\n			Shawn Teigen\n			Counterfeit Emotions - Living an Authentic Life\n\n			\n\n			Curtis Morley\n			How Businesses Help Build a Prosperous Tomorrow\n			Panel:\n\n			Brandon Fugal\n\n			Muriel Xochimitl\n\n			Kyle Reyes\n\n			Kris Peterson\n\n			Nicole Martin\n			\n		\n		\n			11:30 AM\n			\n			Clean Air and Sustainability/Radon Risks\n\n			\n\n			Todd Munger\n\n			Garrett Harding\n\n			Eleanor Divver \n			\n			\n			Utah County - Metrics of Success\n\n			\n\n			Christopher Collard\n			\n			\n			Empowering Students to Contribute in Their Own Way\n\n			\n\n			Sarah Sun Kanell\n			\n			Utah Rising - A Collaborative Approach to Growth\n\n			\n\n			Derek Miller\n		\n		\n			12:30 PM\n			The Role of Nonprofits in our Growing Community\n			Panel:\n\n			Curtis Blair\n\n			Jared Price\n\n			Amy Bosworth\n\n			Al Switzler\n			\n			\n			The Benefits of Active Transportation\n\n			Panel:\n\n			Calvin Clark\n\n			Brett McIff\n\n			Dede Murray\n\n			Vern Keeslar\n			\n			Why Do Students Need to Engage? It's Your Future\n\n			\n\n			Bill Hoops\n			Innovation Center at The Point Utah\n\n			\n\n			Chris Goodman and Don Willie\n		\n	\n\n \n\n\n	Closing Session\n	\n		\n			Time\n			Activity\n			Speaker \n			Location\n		\n		\n			1:30 PM\n			Lunch & Video\n			 \n			Grande Ballroom\n		\n		\n			1:45 PM\n			Keynote Speaker\n			John Bolton\n			Grande Ballroom\n		\n		\n			2:25 PM\n			2034 Olympics Panel\n			Carine Clark\, Clayton Young\, Senator Mike McKell\, and Mayor Michelle Kaufusi\n			Grande Ballroom\n		\n		\n			2:55 PM\n			Closing Remarks\n			Gov. Gary Herbert\n			Grande Ballroom\n		\n	\n\n\n\nWe hope to see you there!
X-ALT-DESC;FMTTYPE=text/html:<span style="font-family:arial\;"><span style="color:#000000\;"><span font-style:="" libre="" white-space:="">The Utah Valley Growth and Prosperity Summit features several keynote speakers and panels&nbsp\;that address Utah County&rsquo\;s biggest challenges and opportunities. Panels include topics such as: business environment\, workforce&nbsp\;development\, transportation &amp\; infrastructure\, water\, housing\, healthcare\, natural resources\, and education. Let&#39\;s plan to THRIVE.</span></span></span>\n<div>&nbsp\;&nbsp\;&nbsp\;&nbsp\;&nbsp\;&nbsp\;&nbsp\;&nbsp\;&nbsp\;&nbsp\;&nbsp\;&nbsp\;&nbsp\;&nbsp\;&nbsp\;&nbsp\;&nbsp\;&nbsp\;&nbsp\;&nbsp\;&nbsp\;&nbsp\;&nbsp\;&nbsp\;&nbsp\;&nbsp\;&nbsp\;&nbsp\;&nbsp\;&nbsp\;&nbsp\;&nbsp\;&nbsp\;&nbsp\;&nbsp\;&nbsp\;&nbsp\;&nbsp\;&nbsp\;&nbsp\;&nbsp\;&nbsp\;&nbsp\;&nbsp\;&nbsp\;&nbsp\;&nbsp\;&nbsp\;&nbsp\;&nbsp\;&nbsp\;&nbsp\;&nbsp\;&nbsp\;&nbsp\;&nbsp\;&nbsp\;&nbsp\;&nbsp\;&nbsp\;&nbsp\;&nbsp\;&nbsp\;<span style="font-family:arial\;">AGENDA</span>&nbsp\;&nbsp\;&nbsp\;&nbsp\;&nbsp\;&nbsp\;&nbsp\;&nbsp\;</div>\n\n<table border="1" cellpadding="1" cellspacing="1" style="width:500px\;">\n	<caption>Opening Session</caption>\n	<tbody>\n		<tr>\n			<td>Time</td>\n			<td>Activity</td>\n			<td>Speaker</td>\n			<td>Location</td>\n		</tr>\n		<tr>\n			<td>7:15 AM</td>\n			<td>Registration &amp\;&nbsp\;<br />\n			Networking Breakfast</td>\n			<td>Welcome by Curtis Blair at 8:30 AM</td>\n			<td>The Commons</td>\n		</tr>\n		<tr>\n			<td>8:05 AM</td>\n			<td>Keynote Speaker</td>\n			<td>Governor Spencer Cox</td>\n			<td>Grande Ballroom</td>\n		</tr>\n		<tr>\n			<td>8:30 AM</td>\n			<td>Keynote Speaker</td>\n			<td>President Astrid Tuminez</td>\n			<td>Grande Ballroom</td>\n		</tr>\n		<tr>\n			<td>8:50 AM</td>\n			<td>Keynote Speaker</td>\n			<td>Natalie Gochnour</td>\n			<td>Grande Ballroom</td>\n		</tr>\n		<tr>\n			<td>9:30 AM</td>\n			<td>Keynote Speaker</td>\n			<td>Senator Mike Lee</td>\n			<td>Grande Ballroom</td>\n		</tr>\n		<tr>\n			<td>9:50 AM</td>\n			<td>Keynote Speaker</td>\n			<td>Curtis Blair</td>\n			<td>Grande Ballroom</td>\n		</tr>\n	</tbody>\n</table>\n&nbsp\;\n\n<table border="1" cellpadding="1" cellspacing="1" style="width:500px\;">\n	<caption>Breakout Sessions - 4 Tracks</caption>\n	<tbody>\n		<tr>\n			<td>Time</td>\n			<td>Community</td>\n			<td>Government</td>\n			<td>Student</td>\n			<td>Business</td>\n		</tr>\n		<tr>\n			<td>10:30 AM</td>\n			<td><span class="OYPEnA font-feature-liga-off font-feature-clig-off font-feature-calt-off text-decoration-none text-strikethrough-none" style="color: rgb(45\, 79\, 124)\; font-kerning: none\;">Utah Valley as a Health Innovation Hub</span>\n			<p class="cvGsUA direction-ltr align-center para-style-body" style="color: rgb(45\, 79\, 124)\; font-family: &quot\;YADLjC01_S0 0&quot\;\, _fb_\, auto\; --cyV3ZQ: 14.6666px\; --gJPlXQ: 1.4\; line-height: 20px\;"><span class="OYPEnA font-feature-liga-off font-feature-clig-off font-feature-calt-off text-decoration-none text-strikethrough-none" style="font-weight: 700\; font-kerning: none\;">Panel:&nbsp\;<br />\n			Kelvyn Cullimore<br />\n			Mary Beckerle<br />\n			Sam Payne<br />\n			Brandon Gordon</span></p>\n			</td>\n			<td><span class="OYPEnA font-feature-liga-off font-feature-clig-off font-feature-calt-off text-decoration-none text-strikethrough-none" style="color: rgb(45\, 79\, 124)\; font-kerning: none\;">The &ldquo\;Missing Middle&rdquo\; of Housing<br />\n			<br />\n			Shawn Teigen</span></td>\n			<td><span class="OYPEnA font-feature-liga-off font-feature-clig-off font-feature-calt-off text-decoration-none text-strikethrough-none" style="color: rgb(45\, 79\, 124)\; font-kerning: none\;">Counterfeit Emotions - Living an Authentic Life<br />\n			<br />\n			Curtis Morley</span></td>\n			<td><span class="OYPEnA font-feature-liga-off font-feature-clig-off font-feature-calt-off text-decoration-none text-strikethrough-none" style="color: rgb(45\, 79\, 124)\; font-kerning: none\;">How Businesses Help Build a Prosperous Tomorrow</span>\n			<p class="cvGsUA direction-ltr align-center para-style-body" style="color: rgb(45\, 79\, 124)\; font-family: &quot\;YADLjC01_S0 0&quot\;\, _fb_\, auto\; --cyV3ZQ: 14.6667px\; --gJPlXQ: 1.4\; line-height: 20px\;"><span class="OYPEnA font-feature-liga-off font-feature-clig-off font-feature-calt-off text-decoration-none text-strikethrough-none" style="font-weight: 700\; font-kerning: none\;">Panel:<br />\n			Brandon Fugal<br />\n			Muriel Xochimitl<br />\n			Kyle Reyes<br />\n			Kris Peterson<br />\n			Nicole Martin</span></p>\n			</td>\n		</tr>\n		<tr>\n			<td>11:30 AM</td>\n			<td>\n			<p class="cvGsUA direction-ltr align-center para-style-body" style="color: rgb(45\, 79\, 124)\; font-family: &quot\;YADLjC01_S0 0&quot\;\, _fb_\, auto\; --cyV3ZQ: 17.4999px\; --gJPlXQ: 1.4\; line-height: 24px\;"><span class="OYPEnA font-feature-liga-off font-feature-clig-off font-feature-calt-off text-decoration-none text-strikethrough-none" style="font-kerning: none\;">Clean Air and Sustainability/Radon Risks</span><br />\n			<br />\n			<span class="OYPEnA font-feature-liga-off font-feature-clig-off font-feature-calt-off text-decoration-none text-strikethrough-none" style="font-weight: 700\; font-kerning: none\;">Todd Munger<br />\n			Garrett Harding<br />\n			Eleanor Divver</span><span class="OYPEnA font-feature-liga-off font-feature-clig-off font-feature-calt-off text-decoration-none text-strikethrough-none" style="font-kerning: none\;">&nbsp\;</span></p>\n			</td>\n			<td>\n			<p class="cvGsUA direction-ltr align-center para-style-body" style="color: rgb(45\, 79\, 124)\; font-family: &quot\;YADLjC01_S0 0&quot\;\, _fb_\, auto\; --cyV3ZQ: 17.4999px\; --gJPlXQ: 1.4\; line-height: 24px\;"><span class="OYPEnA font-feature-liga-off font-feature-clig-off font-feature-calt-off text-decoration-none text-strikethrough-none" style="font-kerning: none\;">Utah County<span class="OYPEnA font-feature-liga-off font-feature-clig-off font-feature-calt-off text-decoration-none text-strikethrough-none white-space-prewrap" style="font-kerning: none\;"> </span>- Metrics of Success<br />\n			<br />\n			Christopher Collard</span></p>\n			</td>\n			<td>\n			<p class="cvGsUA direction-ltr align-center para-style-body" style="color: rgb(45\, 79\, 124)\; font-family: &quot\;YADLjC01_S0 0&quot\;\, _fb_\, auto\; --cyV3ZQ: 17.4999px\; --gJPlXQ: 1.4\; line-height: 24px\;"><span class="OYPEnA font-feature-liga-off font-feature-clig-off font-feature-calt-off text-decoration-none text-strikethrough-none" style="font-kerning: none\;">Empowering Students to Contribute in<span class="OYPEnA font-feature-liga-off font-feature-clig-off font-feature-calt-off text-decoration-none text-strikethrough-none white-space-prewrap" style="font-kerning: none\;"> </span>Their Own Way<br />\n			<br />\n			Sarah Sun Kanell</span></p>\n			</td>\n			<td><span class="OYPEnA font-feature-liga-off font-feature-clig-off font-feature-calt-off text-decoration-none text-strikethrough-none" style="color: rgb(45\, 79\, 124)\; font-kerning: none\;">Utah Rising - A Collaborative Approach to Growth<br />\n			<br />\n			Derek Miller</span></td>\n		</tr>\n		<tr>\n			<td>12:30 PM</td>\n			<td><span class="OYPEnA font-feature-liga-off font-feature-clig-off font-feature-calt-off text-decoration-none text-strikethrough-none" style="color: rgb(45\, 79\, 124)\; font-kerning: none\;">The Role of Nonprofits in our Growing Community</span>\n			<p class="cvGsUA direction-ltr align-center para-style-body" style="color: rgb(45\, 79\, 124)\; font-family: &quot\;YADLjC01_S0 0&quot\;\, _fb_\, auto\; --cyV3ZQ: 16px\; --gJPlXQ: 1.4\; line-height: 22px\;"><span class="OYPEnA font-feature-liga-off font-feature-clig-off font-feature-calt-off text-decoration-none text-strikethrough-none" style="font-kerning: none\;">Panel:<br />\n			Curtis Blair<br />\n			Jared Price<br />\n			Amy Bosworth<br />\n			Al Switzler</span></p>\n			</td>\n			<td>\n			<p><span class="OYPEnA font-feature-liga-off font-feature-clig-off font-feature-calt-off text-decoration-none text-strikethrough-none" style="color: rgb(45\, 79\, 124)\; font-kerning: none\;">The Benefits of Active Transportation</span></p>\n\n			<p class="cvGsUA direction-ltr align-center para-style-body" style="color: rgb(45\, 79\, 124)\; font-family: &quot\;YADLjC01_S0 0&quot\;\, _fb_\, auto\; --cyV3ZQ: 16px\; --gJPlXQ: 1.29\; line-height: 20px\;"><span class="OYPEnA font-feature-liga-off font-feature-clig-off font-feature-calt-off text-decoration-none text-strikethrough-none" style="font-kerning: none\;">Panel:<br />\n			Calvin Clark<br />\n			Brett McIff<br />\n			Dede Murray<br />\n			Vern Keeslar</span></p>\n			</td>\n			<td><span class="OYPEnA font-feature-liga-off font-feature-clig-off font-feature-calt-off text-decoration-none text-strikethrough-none" style="color: rgb(45\, 79\, 124)\; font-kerning: none\;">Why Do Students Need to Engage? It&rsquo\;s Your Future<br />\n			<br />\n			Bill Hoops</span></td>\n			<td><span class="OYPEnA font-feature-liga-off font-feature-clig-off font-feature-calt-off text-decoration-none text-strikethrough-none" style="color: rgb(45\, 79\, 124)\; font-kerning: none\;">Innovation Center at The Point Utah<br />\n			<br />\n			Chris Goodman and Don Willie</span></td>\n		</tr>\n	</tbody>\n</table>\n&nbsp\;\n\n<table border="1" cellpadding="1" cellspacing="1" style="width:500px\;">\n	<caption>Closing Session</caption>\n	<tbody>\n		<tr>\n			<td>Time</td>\n			<td>Activity</td>\n			<td>Speaker&nbsp\;</td>\n			<td>Location</td>\n		</tr>\n		<tr>\n			<td>1:30 PM</td>\n			<td>Lunch &amp\; Video</td>\n			<td>&nbsp\;</td>\n			<td>Grande Ballroom</td>\n		</tr>\n		<tr>\n			<td>1:45 PM</td>\n			<td>Keynote Speaker</td>\n			<td>John Bolton</td>\n			<td>Grande Ballroom</td>\n		</tr>\n		<tr>\n			<td>2:25 PM</td>\n			<td>2034 Olympics Panel</td>\n			<td><span class="OYPEnA font-feature-liga-off font-feature-clig-off font-feature-calt-off text-decoration-none text-strikethrough-none" style="color: rgb(45\, 79\, 124)\; font-kerning: none\;">Carine Clark\, Clayton Young\, Senator Mike McKell\, and Mayor Michelle Kaufusi</span></td>\n			<td>Grande Ballroom</td>\n		</tr>\n		<tr>\n			<td>2:55 PM</td>\n			<td>Closing Remarks</td>\n			<td>Gov. Gary Herbert</td>\n			<td>Grande Ballroom</td>\n		</tr>\n	</tbody>\n</table>\n<br />\n<span style="font-family:arial\;">We hope to see you there!</span>
LOCATION:Utah Valley University - Sorensen Student Center - Grand Ballroom & Ragan Theater
UID:e.1646.4448
SEQUENCE:3
DTSTAMP:20260424T123201Z
URL:https://business.thechamber.org/events/details/growth-prosperity-summit-2024-4448
END:VEVENT

END:VCALENDAR
