BEGIN:VCALENDAR
VERSION:2.0
PRODID:-//ChamberMaster//Event Calendar 2.0//EN
METHOD:PUBLISH
X-PUBLISHED-TTL:P3D
REFRESH-INTERVAL:P3D
CALSCALE:GREGORIAN
BEGIN:VEVENT
DTSTART;VALUE=DATE:20211028
DTEND;VALUE=DATE:20211029
TRANSP:TRANSPARENT
X-MICROSOFT-CDO-ALLDAYEVENT:TRUE
SUMMARY:Growth & Prosperity Summit 2021
DESCRIPTION:Visit UVSUMMIT.COM to register
X-ALT-DESC;FMTTYPE=text/html:<span style="font-size:20px\;">Visit <a href="http://uvsummit.com">UVSUMMIT.COM</a> to register&nbsp\;</span>
LOCATION:Utah Valley University - Noorda Center for the Performing Arts
UID:e.1646.4289
SEQUENCE:3
DTSTAMP:20260425T205313Z
URL:https://business.thechamber.org/events/details/growth-prosperity-summit-2021-4289
END:VEVENT

END:VCALENDAR
