BEGIN:VCALENDAR
VERSION:2.0
PRODID:-//ChamberMaster//Event Calendar 2.0//EN
METHOD:PUBLISH
X-PUBLISHED-TTL:P3D
REFRESH-INTERVAL:P3D
CALSCALE:GREGORIAN
BEGIN:VEVENT
DTSTART:20210829T170000Z
DTEND:20210830T030000Z
X-MICROSOFT-CDO-ALLDAYEVENT:FALSE
SUMMARY:Grand Opening Via 313
DESCRIPTION:Grand Opening
X-ALT-DESC;FMTTYPE=text/html:Grand Opening
LOCATION:
UID:e.1646.4297
SEQUENCE:3
DTSTAMP:20260424T122600Z
URL:https://business.thechamber.org/events/details/grand-opening-via-313-4297
END:VEVENT

END:VCALENDAR
