BEGIN:VCALENDAR
VERSION:2.0
PRODID:-//ChamberMaster//Event Calendar 2.0//EN
METHOD:PUBLISH
X-PUBLISHED-TTL:P3D
REFRESH-INTERVAL:P3D
CALSCALE:GREGORIAN
BEGIN:VEVENT
DTSTART:20210718T010000Z
DTEND:20210718T030000Z
X-MICROSOFT-CDO-ALLDAYEVENT:FALSE
SUMMARY:Garth Brooks In Concert
DESCRIPTION:Garth Brooks is the 7-time CMA Entertainer of the Year\, a first for any artist. He is also the first and only artist in history to receive nine Diamond Awards for the now nine albums certified by the RIAA at over 10 million album sales each. He remains the #1-selling solo artist in U.S. history\, certified by the RIAA with 157 million album sales. Garth was just named one of the five artists that will receive a Kennedy Center Honor this year. Last March\, Garth received the esteemed Library of Congress Gershwin Prize for Popular Song. The event aired on PBS.  He has received every accolade the recording industry can bestow on an artist.
X-ALT-DESC;FMTTYPE=text/html:<span style="font-size: 9pt\; font-family: Verdana\, sans-serif\;">Garth Brooks is the 7-time CMA Entertainer of the Year\, a first for any artist. He is also the first and only artist in history to receive nine Diamond Awards for the now nine albums certified by the RIAA at over 10 million album sales each. He remains the #1-selling solo artist in U.S. history\, certified by the RIAA with 157 million album sales. Garth was just named one of the five artists that will receive a Kennedy Center Honor this year.&nbsp\;Last March\, Garth received the esteemed Library of Congress Gershwin Prize for Popular Song. The event aired on PBS.&nbsp\; He has received every accolade the recording industry can bestow on an artist.</span>
LOCATION:Rice-Eccles Stadium\, Salt Lake City
UID:e.1646.4247
SEQUENCE:3
DTSTAMP:20260425T114924Z
URL:https://business.thechamber.org/events/details/garth-brooks-in-concert-4247
END:VEVENT

END:VCALENDAR
