BEGIN:VCALENDAR
VERSION:2.0
PRODID:-//ChamberMaster//Event Calendar 2.0//EN
METHOD:PUBLISH
X-PUBLISHED-TTL:P3D
REFRESH-INTERVAL:P3D
CALSCALE:GREGORIAN
BEGIN:VEVENT
DTSTART:20240814T180000Z
DTEND:20240814T193000Z
X-MICROSOFT-CDO-ALLDAYEVENT:FALSE
SUMMARY:Come and See What's New - Membership Luncheon - August 2024
DESCRIPTION:Hmmm\, imagine the fresh scent of a brand new car... Or how you felt going on a shopping spree to gather materials for a new hobby! What about the new flavor that came out at your favorite doughnut shop? Nothing beats the excitement and possibility of something new.\n\n \n\nWell\, there's a lot of NEW at the Chamber this year: from new employees to the 20 new members who have joined since January. Come on over to meet and mingle with these new faces and enjoy some delicious bbq with us. RSVP today! You won't regret it.
X-ALT-DESC;FMTTYPE=text/html:<p style="margin: 0px\; padding: 0px\;">Hmmm\, imagine the fresh scent of a brand new car... Or how you felt going on a shopping spree to gather materials for a new hobby! What about the new flavor that came out at your favorite doughnut shop? Nothing beats the excitement and possibility of something new.</p>\n\n<p style="margin: 0px\; padding: 0px\;">&nbsp\;</p>\n\n<p style="margin: 0px\; padding: 0px\;">Well\, there&#39\;s a lot of NEW at the Chamber this year: from new employees to the 20 new members who have joined since January. Come on over to meet and mingle with these new faces and enjoy some delicious bbq with us. RSVP today! You won&#39\;t regret it.</p>\n
LOCATION:R & R BBQ 4801 N University Ave Provo\, UT 84604
UID:e.1646.4487
SEQUENCE:3
DTSTAMP:20260419T211147Z
URL:https://business.thechamber.org/events/details/come-and-see-what-s-new-membership-luncheon-august-2024-4487
END:VEVENT

END:VCALENDAR
