BEGIN:VCALENDAR
VERSION:2.0
PRODID:-//ChamberMaster//Event Calendar 2.0//EN
METHOD:PUBLISH
X-PUBLISHED-TTL:P3D
REFRESH-INTERVAL:P3D
CALSCALE:GREGORIAN
BEGIN:VEVENT
DTSTART:20260618T233000Z
DTEND:20260619T040000Z
X-MICROSOFT-CDO-ALLDAYEVENT:FALSE
SUMMARY:2026 Chamber Open House at the SCERA Center
DESCRIPTION:Bring your family and enjoy hor'dourves while learning about the Utah Valley chamber's newest members! Then "Let It Go" at the first musical of THe scera's 2026 summer season: DISNEY's Frozen!
X-ALT-DESC;FMTTYPE=text/html:<span class="a_GcMg font-feature-liga-off font-feature-clig-off font-feature-calt-off text-decoration-none text-strikethrough-none" style="color: rgb(0\, 64\, 110)\; font-family: YAFdJjZxcpY_0\, _fb_\, auto\; text-transform: uppercase\; caret-color: rgb(0\, 64\, 110)\; --Ys-XuQ: none\; font-kerning: normal\;">Bring your family and enjoy hor&#39\;dourves while learning about the Utah Valley chamber&#39\;s newest members! Then&nbsp\;</span><span style="color: rgb(0\, 64\, 110)\; font-family: YAFdJjZxcpY_0\, _fb_\, auto\; text-transform: uppercase\; caret-color: rgb(0\, 64\, 110)\;">&ldquo\;Let It Go&rdquo\; at the first musical of THe scera&rsquo\;s 2026 summer&nbsp\;</span><span style="color: rgb(0\, 64\, 110)\; font-family: YAFdJjZxcpY_0\, _fb_\, auto\; text-transform: uppercase\; caret-color: rgb(0\, 64\, 110)\;">season: DISNEY&#39\;s&nbsp\;<em>Frozen!</em></span>
LOCATION:SCERA SHELL THEATER: GATE 6 600 S 400 E\, Orem\, UT 84058
UID:e.1646.4571
SEQUENCE:3
DTSTAMP:20260423T230123Z
URL:https://business.thechamber.org/events/details/2026-chamber-open-house-at-the-scera-center-4571
END:VEVENT

END:VCALENDAR
