BEGIN:VCALENDAR
VERSION:2.0
PRODID:-//ChamberMaster//Event Calendar 2.0//EN
METHOD:PUBLISH
X-PUBLISHED-TTL:P3D
REFRESH-INTERVAL:P3D
CALSCALE:GREGORIAN
BEGIN:VEVENT
DTSTART:20260129T003000Z
DTEND:20260129T040000Z
X-MICROSOFT-CDO-ALLDAYEVENT:FALSE
SUMMARY:2026 Chamber Open House
DESCRIPTION:Our Open House will take place on January 28th\, 2026 from 5:30 PM to 9:00 PM. This will be a wonderful event that you wont want to miss. We will feature the Chambers latest members from the past 6 months and will offer a unique opportunity to network\, connect\, and celebrate with fellow members of the Chamber\, including our Board of Directors and staff.
X-ALT-DESC;FMTTYPE=text/html:<span style="font-size:11pt\;">Our Open House will take place on January 28th\, 2026&nbsp\;from 5:30 PM to 9:00 PM<strong>. </strong>This<strong>&nbsp\;</strong>will be a wonderful event that you wont want to miss. We will feature the Chambers latest members from the past 6 months and will offer a unique opportunity to network\, connect\, and celebrate with fellow members of the Chamber\, including our Board of Directors and staff.</span>
LOCATION:The Grid - 593 S Evermore Ln\, Pleasant Grove\, UT 84062
UID:e.1646.4558
SEQUENCE:3
DTSTAMP:20260423T095413Z
URL:https://business.thechamber.org/events/details/2026-chamber-open-house-4558
END:VEVENT

END:VCALENDAR
