BEGIN:VCALENDAR
VERSION:2.0
PRODID:-//ChamberMaster//Event Calendar 2.0//EN
METHOD:PUBLISH
X-PUBLISHED-TTL:P3D
REFRESH-INTERVAL:P3D
CALSCALE:GREGORIAN
BEGIN:VEVENT
DTSTART:20260807T010000Z
DTEND:20260807T040000Z
X-MICROSOFT-CDO-ALLDAYEVENT:FALSE
SUMMARY:2026 Chamber Night at the SCERA Shell
DESCRIPTION:Bring your family and enjoy the THIRD and final musical of THe scera's 2026 summer season: Guys and Dolls!
X-ALT-DESC;FMTTYPE=text/html:<p class="cvGsUA direction-ltr align-start para-style-body" style="color: rgba(0\,64\,110\,var(--O42jJQ\,1))\; caret-color: rgb(0\, 64\, 110)\; --8sD0Kg: none\; font-family: YAFdJjZxcpY_0\, _fb_\, auto\; --cyV3ZQ: 20px\; --gJPlXQ: 1.4\; text-transform: uppercase\; --s8NbEA: p\; line-height: 28px\;"><span class="a_GcMg font-feature-liga-off font-feature-clig-off font-feature-calt-off text-decoration-none text-strikethrough-none" style="color: rgba(0\,64\,110\,var(--O42jJQ\,1))\; --Ys-XuQ: none\; font-kerning: normal\;">Bring your family and enjoy</span><span style="color: rgb(0\, 64\, 110)\; font-family: YAFdJjZxcpY_0\, _fb_\, auto\; text-transform: uppercase\; caret-color: rgb(0\, 64\, 110)\;">&nbsp\;the THIRD and final&nbsp\;musical of THe scera&rsquo\;s 2026 summer&nbsp\;</span><span style="color: rgb(0\, 64\, 110)\; font-family: YAFdJjZxcpY_0\, _fb_\, auto\; text-transform: uppercase\; caret-color: rgb(0\, 64\, 110)\;">season: <em>Guys and Dolls!</em></span></p>\n
LOCATION:SCERA SHELL THEATER: GATE 6 600 S 400 E\, Orem\, UT 84058
UID:e.1646.4570
SEQUENCE:3
DTSTAMP:20260423T225918Z
URL:https://business.thechamber.org/events/details/2026-chamber-night-at-the-scera-shell-4570
END:VEVENT

END:VCALENDAR
